BEGIN:VCALENDAR
VERSION:2.0
PRODID:-//asociacionamea.es - ECPv6.15.17.1//NONSGML v1.0//EN
CALSCALE:GREGORIAN
METHOD:PUBLISH
X-ORIGINAL-URL:https://asociacionamea.es
X-WR-CALDESC:Eventos para asociacionamea.es
REFRESH-INTERVAL;VALUE=DURATION:PT1H
X-Robots-Tag:noindex
X-PUBLISHED-TTL:PT1H
BEGIN:VTIMEZONE
TZID:UTC
BEGIN:STANDARD
TZOFFSETFROM:+0000
TZOFFSETTO:+0000
TZNAME:UTC
DTSTART:20240101T000000
END:STANDARD
END:VTIMEZONE
BEGIN:VEVENT
DTSTART;VALUE=DATE:20250506
DTEND;VALUE=DATE:20250507
DTSTAMP:20260421T124316
CREATED:20260324T072257Z
LAST-MODIFIED:20260414T062924Z
UID:3423-1746489600-1746575999@asociacionamea.es
SUMMARY:Evento – Festival de teatro «emergencia»
DESCRIPTION:AMEA COLABORA PARA LA PUESTA EN MARCHA DEL FESTIVAL DE TEATRO EMERGENCIA \nLa Asociación de Mujeres Empresarias de Alcorcón (AMEA) participó en la organización del Festival EMERGENCIA\, un evento de teatro independiente impulsado junto a la Asociación de Teatro Cadáver Exquisito\, la revista Godot y el Ayuntamiento de Alcorcón. Este festival\, que celebró su primera edición\, nació con el propósito de visibilizar el teatro emergente y local. \nDe los 108 proyectos presentados\, ocho fueron seleccionados como finalistas\, procedentes de diferentes comunidades autónomas como Madrid\, Comunidad Valenciana\, Andalucía y Galicia. \nLas obras ganadoras fueron representadas en varios espacios del municipio\, incluyendo «Todas las mujeres que habito«\, «Ninguna planta es de interior«\, «Las preciosas ridículas«\, «El Banquete«\, «Wendy también vuela» y «Objetuario«. La inauguración contó con la dramaturga y directora Carolina África como madrina\, quien participó en el acto junto a representantes de AMEA y otras colaboradoras. La muestra se llevó a cabo del 27 al 30 de marzo en diferentes sedes culturales de Alcorcón\, consolidando el evento como un referente para el teatro independiente en la localidad. \nFirmado: C. Bermejo
URL:https://asociacionamea.es/events/evento-festival-de-teatro-emergencia/
CATEGORIES:Eventos
ATTACH;FMTTYPE=image/png:https://asociacionamea.es/wp-content/uploads/2025/11/Festival-de-Teatro-EMERGENCIA.png
END:VEVENT
BEGIN:VEVENT
DTSTART;VALUE=DATE:20250508
DTEND;VALUE=DATE:20250509
DTSTAMP:20260421T124316
CREATED:20260319T085125Z
LAST-MODIFIED:20260416T075648Z
UID:3296-1746662400-1746748799@asociacionamea.es
SUMMARY:Premios AEPA 2025
DESCRIPTION:Como todos los años\, el pasado 8 de mayo\, gran parte de las compañeras de AMEA acompañamos a nuestros amigos de AEPA (Asociación de empresarios y Profesionales de Alcorcón) en su Gala de los XIII Premios AEPA 2025. \nUna gran noche llena de mucho cine\, de talento y reconocimiento a los 10 premiados en las distintas disciplinas. Enhorabuena a todos y todas. \nEstos fueron los galardonados en las distintas categorías de premios: en la categoría de Emprendimiento\, el premio fue para María Herrera; el premio a la Iniciativa fue otorgado al Grupo Inmouno; en Igualdad\, el reconocimiento fue para el Club de Rugby Tigresas de Alcorcón; en la categoría de Comercio\, se premió a Factoría Retro; el galardón a la Tradición fue para Muebles Galinduste; en Innovación\, el reconocimiento fue para Ahumados Domínguez; en la categoría de Excelencia\, fue distinguida Sandra Vicente Jiménez; el premio a la Estrategia recayó en Urcosa; la Mención Especial fue para Vicente One More Time; y\, finalmente\, el premio Extraordinario fue otorgado a Nayanesh Ayman\, como reconocimiento a su contribución única y excepcional. \nPor último\, agradecer a todos los patrocinadores que formaron parte de este evento y que gracias a ellos funcionó todo correctamente. \nFirmado: C. Bermejo \n 
URL:https://asociacionamea.es/events/premios-aepa-2026/
CATEGORIES:Eventos
ATTACH;FMTTYPE=image/png:https://asociacionamea.es/wp-content/uploads/2025/11/Premios-AEPA-025.png
END:VEVENT
END:VCALENDAR